BEGIN:VCALENDAR
VERSION:2.0
PRODID:-//Gate 21 - ECPv6.15.20//NONSGML v1.0//EN
CALSCALE:GREGORIAN
METHOD:PUBLISH
X-ORIGINAL-URL:https://gate21.dk
X-WR-CALDESC:Begivenheder for Gate 21
REFRESH-INTERVAL;VALUE=DURATION:PT1H
X-Robots-Tag:noindex
X-PUBLISHED-TTL:PT1H
BEGIN:VTIMEZONE
TZID:Europe/Copenhagen
BEGIN:DAYLIGHT
TZOFFSETFROM:+0100
TZOFFSETTO:+0200
TZNAME:CEST
DTSTART:20220327T010000
END:DAYLIGHT
BEGIN:STANDARD
TZOFFSETFROM:+0200
TZOFFSETTO:+0100
TZNAME:CET
DTSTART:20221030T010000
END:STANDARD
BEGIN:DAYLIGHT
TZOFFSETFROM:+0100
TZOFFSETTO:+0200
TZNAME:CEST
DTSTART:20230326T010000
END:DAYLIGHT
BEGIN:STANDARD
TZOFFSETFROM:+0200
TZOFFSETTO:+0100
TZNAME:CET
DTSTART:20231029T010000
END:STANDARD
BEGIN:DAYLIGHT
TZOFFSETFROM:+0100
TZOFFSETTO:+0200
TZNAME:CEST
DTSTART:20240331T010000
END:DAYLIGHT
BEGIN:STANDARD
TZOFFSETFROM:+0200
TZOFFSETTO:+0100
TZNAME:CET
DTSTART:20241027T010000
END:STANDARD
END:VTIMEZONE
BEGIN:VEVENT
DTSTART;TZID=Europe/Copenhagen:20230927T093000
DTEND;TZID=Europe/Copenhagen:20230927T120000
DTSTAMP:20260426T055318
CREATED:20230810T174701Z
LAST-MODIFIED:20231122T201824Z
UID:10000167-1695807000-1695816000@gate21.dk
SUMMARY:Kick-off for Sjællands Klimaalliance: Fra plan til handling i Region Sjælland
DESCRIPTION:[vc_row type=”full-nopad”][vc_column width=”2/3″][vc_column_text] \n\n\nKommunerne i Region Sjælland har udarbejdet DK2020-klimaplaner\, der lever op til Parisaftalen. Det nye 5-årige partnerskab ‘Sjællands Klimaalliance’ skal understøtte implementeringen og hjælpe kommunerne med at gå fra planer til handling. Det kommer til at kræve politisk lederskab\, et erhvervsliv på forkant\, og stærke koblinger mellem klimaindsats og regional udvikling. \nDet stiller Region Sjælland\, KKR Sjælland og Gate 21 skarpt på den 27. september 2023 fra klokken 9:30 til 12:00 i Næstved Arena. Her inviterer Sjællands Klimaalliance politikere\, erhvervsliv og centrale klimaaktører til at inspirere hinanden og bygge fællesskab om klimaopgaven i Region Sjælland. \nArrangementet er en optakt til Region Sjællands Udviklingskonference 2023. \nDagens fokusområder: Landbrug & arealanvendelse\, energiomstilling og forbrug og genbrug. \n\n\n\n[/vc_column_text][vc_empty_space][/vc_column][vc_column width=”1/3″ el_class=”event-column”][vc_column_text] \nPraktisk info\nArrangementet er afholdt. Det er ikke muligt at tilmelde sig. \nTid: Arrangementet foregår torsdag den 27. september fra klokken 9.30 – 12.00.  \nSted: Næstved Arena[/vc_column_text][vc_empty_space][vc_separator][vc_empty_space][vc_column_text] \nKontakt\nClaus Knudsen\nclaus.knudsen@gate21.dk[/vc_column_text][vc_empty_space][vc_separator][vc_empty_space][/vc_column][/vc_row]
URL:https://gate21.dk/arrangement/kick-off-for-sjaellands-klimaalliance-fra-plan-til-handling-i-region-sjaelland/
CATEGORIES:Klimaplaner
ATTACH;FMTTYPE=image/jpeg:https://gate21.dk/wp-content/uploads/2023/07/Vindmoeller-cykel-1-scaled-1.jpg
END:VEVENT
BEGIN:VEVENT
DTSTART;TZID=Europe/Copenhagen:20230921T090000
DTEND;TZID=Europe/Copenhagen:20230921T100000
DTSTAMP:20260426T055318
CREATED:20230706T103727Z
LAST-MODIFIED:20231122T215717Z
UID:10000165-1695286800-1695290400@gate21.dk
SUMMARY:Sådan genbruger og genanvender du beton  — på 60 minutter
DESCRIPTION:[vc_row type=”full-nopad”][vc_column width=”2/3″][vc_column_text] \n\n\n\n\nFå inspiration og konkrete værktøjer til dit arbejde\nBeton er verdens mest anvendte byggemateriale. Og genbrug og genanvendelse af materialet kan blive kilden til store reduktioner i byggeriets klimaaftryk. \nI dette webinar får vi indblik i mulighederne for at bruge betonen igen gennem konkrete erfaringer fra Roskilde og Høje-Taastrup. Vi hører om realiserede projekter\, udfordringer og dykker ned i business cases. \nVi gennemgår også et værktøj til at beregne CO2-effekten ved at genbruge og genanvende beton og andet bygge- og nedrivningsaffald. \n  \nProgram\n\n\n\nVelkomst: Hvad er CityLoops for en størrelse og introduktion til dagens deepdive “genanvendelse af beton”\nved Josephine Hasling Mikkelsen\, Gate 21 og Pernille Kern Kernel\, Region Hovedstaden\n\n\n\nHør\, hvordan Roskilde Kommune har arbejdet med genbrug og genanvendelse af beton\nved Klaus Kellerman\, Roskilde Kommune \nVærktøjstutorial: Sådan bruger du CO2-beregneren på beton og CDW\nved Klaus Kellerman\, Roskilde Kommune \nHør\, hvordan Høje-Taastrup Kommune arbejder med genanvendt beton\nved Erika Yates\, Høje-Taastrup Kommune \nWebinarrækken: Hvad dykker vi ned i næste gang?\nved Josephine Hasling Mikkelsen\, Gate 21 og Pernille Kern Kernel\, Region Hovedstaden \n\n\n\n\n  \n\n\n\n\nPraktisk\nHar du spørgsmål\, er du velkommen til at tage fat i projektleder Josephine Hasling Mikkelsen på mail eller telefon: 2475 4573. \n  \nWebinaret er en del af en serie\, hvor vi dykker ned i det cirkulære byggeri. Alle webinarer varer en time og du kan finde dem her. \n  \n\n\n\n\n[/vc_column_text][vc_empty_space][/vc_column][vc_column width=”1/3″ el_class=”event-column”][vc_empty_space height=”16px”][vc_column_text] \nPraktisk information\nTilmelding: Arrangementet er afholdt. Det er ikke muligt at tilmelde sig. \nTid: Den 21. september 2023\, klokken 9.00-10.00. \nSted: Online[/vc_column_text][vc_empty_space][vc_separator][vc_empty_space][vc_column_text] \nKontakt\nJosephine Hasling Mikkelsen\njosephine.mikkelsen@gate21.dk[/vc_column_text][vc_empty_space][vc_separator][/vc_column][/vc_row][vc_row type=”boxed”][vc_column][vc_column_text] \n\n\n\n\n\n\n\n \n\n\n\n\n[/vc_column_text][vc_empty_space height=”68px”][/vc_column][/vc_row]
URL:https://gate21.dk/arrangement/saadan-genbruger-og-genanvender-du-beton-paa-60-minutter/
CATEGORIES:Bygninger,Cirkulær Økonomi
ATTACH;FMTTYPE=image/png:https://gate21.dk/wp-content/uploads/2023/07/3_BETON_web.png
END:VEVENT
BEGIN:VEVENT
DTSTART;TZID=Europe/Copenhagen:20230830T090000
DTEND;TZID=Europe/Copenhagen:20230830T100000
DTSTAMP:20260426T055318
CREATED:20230706T085529Z
LAST-MODIFIED:20231124T014654Z
UID:10000163-1693386000-1693389600@gate21.dk
SUMMARY:Sådan planlægger du cirkulært byggeri – på 60 minutter
DESCRIPTION:[vc_row type=”full-nopad”][vc_column width=”2/3″][vc_column_text] \n\n\n\n\nFå inspiration til planlægningen af dit næste cirkulære byggeri\nI dette webinar dykker vi ned i kommunernes arbejdsgange\, og undersøger\, hvordan man ved hjælp af værktøjer kan få genbrug af byggematerialer integreret i byggeprojekter. \nVi vil få præsenteret metoder og værktøjer. Blandt andet guidelines til beslutningstagere i planlægning\, som er udarbejdet af RUC i regi af projektet CityLoops. \nDu vil også høre\, hvordan Roskilde Kommune og Høje-Taastrup Kommune med hver deres tilgang indarbejder cirkulær økonomi i byggeriet. \nProgram\nVelkomst: Hvad er CityLoops for en størrelse og introduktion til dagens deepdive “planlægning”\nved Josephine Hasling Mikkelsen\, Gate 21 og Pernille Kern Kernel\, Region Hovedstaden \nHvordan får kommunerne cirkulært byggeri ind i arbejdsgange og byggeprojekter?\nved RUC \nGode erfaringer fra Roskilde Kommune: Arbejdet inden udbuddet\nved Klaus Kellerman\, Roskilde Kommune \nCirkulært byggeri i Høje-Taastrup Kommune\nved Erika Yates\, Høje-Taastrup Kommune \nWebinarrækken: Hvad dykker vi ned i næste gang?\nved Josephine Hasling Mikkelsen\, Gate 21 og Pernille Kern Kernel\, Region Hovedstaden \n\n\nPraktisk\nHar du spørgsmål\, er du velkommen til at tage fat i projektleder Josephine Hasling Mikkelsen på mail eller telefon: 2475 4573. \n  \nWebinaret er en del af en serie\, hvor vi dykker ned i det cirkulære byggeri. Alle webinarer varer en time og du kan finde dem her. \n\n\n\n\n\n\n[/vc_column_text][vc_empty_space][/vc_column][vc_column width=”1/3″ el_class=”event-column”][vc_column_text] \nPraktisk information\nTilmelding: Arrangementet er afholdt. Det er ikke muligt at tilmelde sig. \nTid: Den 30. august 2023\, klokken 9:00-10:00. \nSted: Online[/vc_column_text][vc_empty_space][vc_separator][vc_empty_space][vc_column_text] \nKontakt\nJosephine Mikkelsen\njosephine.mikkelsen@gate21.dk[/vc_column_text][vc_empty_space][/vc_column][/vc_row][vc_row type=”boxed”][vc_column][vc_empty_space height=”68px”][vc_column_text] \n\n\n\n\n\n\n\n \n\n\n\n\n[/vc_column_text][vc_empty_space height=”68px”][/vc_column][/vc_row]
URL:https://gate21.dk/arrangement/saadan-planlaegger-du-cirkulaert-byggeri-paa-60-minutter/
CATEGORIES:Cirkulær Økonomi
ATTACH;FMTTYPE=image/png:https://gate21.dk/wp-content/uploads/2023/07/1_PLANLAeGNING_web-1.png
END:VEVENT
END:VCALENDAR