BEGIN:VCALENDAR
VERSION:2.0
PRODID:-//Gate 21 - ECPv6.15.20//NONSGML v1.0//EN
CALSCALE:GREGORIAN
METHOD:PUBLISH
X-WR-CALNAME:Gate 21
X-ORIGINAL-URL:https://gate21.dk
X-WR-CALDESC:Begivenheder for Gate 21
REFRESH-INTERVAL;VALUE=DURATION:PT1H
X-Robots-Tag:noindex
X-PUBLISHED-TTL:PT1H
BEGIN:VTIMEZONE
TZID:Europe/Copenhagen
BEGIN:DAYLIGHT
TZOFFSETFROM:+0100
TZOFFSETTO:+0200
TZNAME:CEST
DTSTART:20240331T010000
END:DAYLIGHT
BEGIN:STANDARD
TZOFFSETFROM:+0200
TZOFFSETTO:+0100
TZNAME:CET
DTSTART:20241027T010000
END:STANDARD
BEGIN:DAYLIGHT
TZOFFSETFROM:+0100
TZOFFSETTO:+0200
TZNAME:CEST
DTSTART:20250330T010000
END:DAYLIGHT
BEGIN:STANDARD
TZOFFSETFROM:+0200
TZOFFSETTO:+0100
TZNAME:CET
DTSTART:20251026T010000
END:STANDARD
BEGIN:DAYLIGHT
TZOFFSETFROM:+0100
TZOFFSETTO:+0200
TZNAME:CEST
DTSTART:20260329T010000
END:DAYLIGHT
BEGIN:STANDARD
TZOFFSETFROM:+0200
TZOFFSETTO:+0100
TZNAME:CET
DTSTART:20261025T010000
END:STANDARD
END:VTIMEZONE
BEGIN:VEVENT
DTSTART;TZID=Europe/Copenhagen:20250909T093000
DTEND;TZID=Europe/Copenhagen:20250909T150000
DTSTAMP:20260422T104640
CREATED:20250613T075258Z
LAST-MODIFIED:20250818T070635Z
UID:10000272-1757410200-1757430000@gate21.dk
SUMMARY:Grøn omstilling i morgendagens byggeri: Biobaserede byggematerialer
DESCRIPTION:[vc_row type=”full-nopad”][vc_column width=”2/3″][vc_column_text css=””] \n\n\nDanish-Swedish workshop on bio-based building materials\nArrangementet afholdes på svensk og dansk. \nI en verden\, hvor bæredygtighed bliver stadig mere central for alle industrier\, står byggebranchen over for en transformation og nye krav. Denne workshop bringer eksperter\, producenter og branchefolk sammen for at diskutere\, hvordan biobaserede byggematerialer kan løse mange af de fremtidige lovkrav\, tendenser og rammer for morgendagens byggeri. \nSom en del af EU Interreg projektet Power Bio inviterer Business Lolland-Falster og Gate 21 sammen med DTU\, DTI\, Lunds Universitet og Sustainable Business Hub til en inspirerende dag om fremtidens byggeri. \nDu får:\n\nDeltage i inspirerende oplæg om\, hvordan fremtiden formes i byggebranchen\nMøde producenter af byggematerialer af hamp\, ålegræs og halm\nKonkret indblik i prisparametre\, konstruktionsforhold\, og hvordan det hele påvirker bæredygtighedsrapporter\nMulighed for at netværke med repræsentanter på tværs af branchen i Danmark og sydlige Sverige.\n\nTilmeld dig\, og deltag i et spændende arrangement\, der har til formål at forberede branchen på den nye lovgivning i Danmark og Sverige og forstærke en bæredygtig omstilling. \nPå dagen vil vi tale om brugen af ​​biobaserede byggematerialer\, lovgivning om biobaseret byggeri i Danmark og Sverige\, hvordan vi gør biobaseret byggeri økonomisk rentabelt og samtidig sikrer dets bæredygtighed\, samt diskutere de vigtigste udfordringer og fordele ved at bruge biobaserede materialer. Eksisterende virksomheder vil dele deres erfaringer med\, hvordan man kan realisere rentabelt og bæredygtigt biobaseret byggeri.  \nArrangementet er rettet mod/riktar sig till svenske og danske aktører i byggebranchen\, bygningsingeniører\, arkitekter\, forskere\, producenter af materialer. Alle\, der vil at vide mere om\, hvordan man kan lave rentable/lönsamma och bæredygtige/hållbara bygninger\, og hvordan man kan innovere på området. \nGå ikke glip af denne mulighed for at være med! / Missa inte möjligheten att vara med! \nPROGRAM \nAnkomst og registrering \nVelkomst / Välkomna – Vært: Kristian Birkegaard | Birkelink – DK \nSession 1 – Vigtigheden i omstillingen til en bæredygtig byggebranche / Vikten av att ställa om till en hållbar byggbransch\nStig Hesellund | Realdania – DK \nSession 2 – Lovgivning på området – hvad er forude / Lagstiftning inom området Oskar Ranefjärd | Lunds Universitet – SE\nTrine de Fine Skibsted  | Dansk Erhverv – DK\nChristian Høgsbro | Kuben Management – DK \nSession 3 – Biobaseret byggeri – hvordan gør man? / Biobaserat byggande – hur gör man?Naib Woldemariam | Ekolution – SEMathias Andersen | Drop Pod – DKTobias Øhrstrøm | Søuld – DK \nFrokost & Nätverkande \nSession 4 – Bæredygtige bygninger – rentabilitet og praktiske eksemplerLars Keller | EcoCocon – DKChristian Johansson | EVIA – SE \nAfslutning – PaneldebatDagen rundes af med opsummeringer og dialog om konsekvenserne og virkemidler.Få de sidste noter med fra forskellige oplægsholdere fra dagen. \n\n\n[/vc_column_text][vc_empty_space][vc_cta h2=”” shape=”square” style=”flat” color=”green” css=”.vc_custom_1750763712332{margin-bottom: 28px !important;padding-right: 28px !important;}”] \n\nHvem står bag?\nBag arrangementet står projektet og partnerskabet bag PowerBio\, der arbejder for at øge udbuddet af biomasse til grøn energi og produktion af højværdiprodukter. \nPowerBio er støttet af Region Sjælland og Interreg ØKS. \n\n[/vc_cta][vc_empty_space][vc_single_image image=”126329″ img_size=”full”][/vc_column][vc_column width=”1/3″ el_class=”event-column”][vc_column_text css=””] \nPraktisk information\nTid: Arrangementet foregår tirsdag den 9. september 2025\, klokken 9.30-15.00. Ankomst og registrering fra kl. 9.30-10.00 \nAdresse: Auditoriet\, Gate 21\, Liljens Kvarter 2\, 2620 Albertslund\, Danmark \nTransport: Du kan tage S-toget\, linje B\, til Albertslund St.  Gate 21 ligger cirka 10 minutters gang fra stationen. \nEr du i bil\, skal du være opmærksom på\, at parkering er tidsbegrænset flere steder i området. Dog er der tidsubegrænset parkering\, men kun i GUL ZONE\, hos vores nabo NEXT Vestskoven Gymnasium. \nDu kan ta tåget till Albertslund St.\, Danmark. Gate 21 (Liljens Kvt 2) ligger cirka 10 minuters promenad från stationen. \nKommer du med bil\, observera att parkeringen är tidsbegränsad på många av platserna i området. Det finns även tidsobegränsad parkering\, men bara i den GULA ZONEN\, vid vår granne NEXT Vestskoven Gymnasium.[/vc_column_text][vc_empty_space][vc_btn title=”Find oversigt over parkering her” style=”gradient-custom” gradient_custom_color_1=”#ffd90c” gradient_custom_color_2=”#ffd90c” gradient_text_color=”#000000″ shape=”square” align=”center” button_block=”true” link=”url:https%3A%2F%2Fvidi.gate21.dk%2Fapp%2Fgate21%2F%3Fconfig%3D%2Fapi%2Fv2%2Fconfiguration%2Fgate21%2Fconfiguration_gate_21_web_6662f71361d63088562474.json%23osm%2F17%2F12.352%2F55.6571%2Fv%3Aweb_gate21.parkeringspladser%2Cv%3Aweb_gate21.gate21_indgang|target:_blank”][vc_btn title=”Parkeringsmöjligheter” style=”gradient-custom” gradient_custom_color_1=”#ffd90c” gradient_custom_color_2=”#ffd90c” gradient_text_color=”#000000″ shape=”square” align=”center” css=”” button_block=”true” link=”url:https%3A%2F%2Fvidi.gate21.dk%2Fapp%2Fgate21%2F%3Fconfig%3D%2Fapi%2Fv2%2Fconfiguration%2Fgate21%2Fconfiguration_gate_21_web_6662f71361d63088562474.json%23osm%2F17%2F12.352%2F55.6571%2Fv%3Aweb_gate21.parkeringspladser%2Cv%3Aweb_gate21.gate21_indgang|target:_blank”][vc_separator][vc_empty_space][vc_column_text css=””] \nKontakt\nClaus Madelung\ncm@BusinessLF.dk  \nMads Ohland-Andersen\nmads.ohland-andersen@gate21.dk\n[/vc_column_text][vc_empty_space][vc_separator][vc_empty_space][vc_btn title=”Tilmeld dig her / Anmäl dig här” style=”gradient-custom” gradient_custom_color_1=”#ffd90c” gradient_custom_color_2=”#ffd90c” gradient_text_color=”#000000″ shape=”square” align=”center” css=”” button_block=”true” link=”url:https%3A%2F%2Fpodio.com%2Fwebforms%2F20416046%2F1395806%3Ffields%5Bevent%5D%3D3108426120|target:_blank”][vc_empty_space][/vc_column][/vc_row]
URL:https://gate21.dk/arrangement/groen-omstilling-i-morgendagens-byggeri-potentialer-ved-biobaserede-byggematerialer/
LOCATION:Gate 21\, Auditoriet\, Liljens Kvarter 2\, 2620 Albertslund\, Danmark
CATEGORIES:Bygninger,Cirkulær Økonomi
ATTACH;FMTTYPE=image/png:https://gate21.dk/wp-content/uploads/2025/06/Biobased-building-materials_Danish_16x9.png
END:VEVENT
END:VCALENDAR