BEGIN:VCALENDAR
VERSION:2.0
PRODID:-//Gate 21 - ECPv6.15.20//NONSGML v1.0//EN
CALSCALE:GREGORIAN
METHOD:PUBLISH
X-ORIGINAL-URL:https://gate21.dk
X-WR-CALDESC:Begivenheder for Gate 21
REFRESH-INTERVAL;VALUE=DURATION:PT1H
X-Robots-Tag:noindex
X-PUBLISHED-TTL:PT1H
BEGIN:VTIMEZONE
TZID:Europe/Helsinki
BEGIN:DAYLIGHT
TZOFFSETFROM:+0200
TZOFFSETTO:+0300
TZNAME:EEST
DTSTART:20220327T010000
END:DAYLIGHT
BEGIN:STANDARD
TZOFFSETFROM:+0300
TZOFFSETTO:+0200
TZNAME:EET
DTSTART:20221030T010000
END:STANDARD
BEGIN:DAYLIGHT
TZOFFSETFROM:+0200
TZOFFSETTO:+0300
TZNAME:EEST
DTSTART:20230326T010000
END:DAYLIGHT
BEGIN:STANDARD
TZOFFSETFROM:+0300
TZOFFSETTO:+0200
TZNAME:EET
DTSTART:20231029T010000
END:STANDARD
BEGIN:DAYLIGHT
TZOFFSETFROM:+0200
TZOFFSETTO:+0300
TZNAME:EEST
DTSTART:20240331T010000
END:DAYLIGHT
BEGIN:STANDARD
TZOFFSETFROM:+0300
TZOFFSETTO:+0200
TZNAME:EET
DTSTART:20241027T010000
END:STANDARD
END:VTIMEZONE
BEGIN:VTIMEZONE
TZID:Europe/Paris
BEGIN:DAYLIGHT
TZOFFSETFROM:+0100
TZOFFSETTO:+0200
TZNAME:CEST
DTSTART:20220327T010000
END:DAYLIGHT
BEGIN:STANDARD
TZOFFSETFROM:+0200
TZOFFSETTO:+0100
TZNAME:CET
DTSTART:20221030T010000
END:STANDARD
BEGIN:DAYLIGHT
TZOFFSETFROM:+0100
TZOFFSETTO:+0200
TZNAME:CEST
DTSTART:20230326T010000
END:DAYLIGHT
BEGIN:STANDARD
TZOFFSETFROM:+0200
TZOFFSETTO:+0100
TZNAME:CET
DTSTART:20231029T010000
END:STANDARD
BEGIN:DAYLIGHT
TZOFFSETFROM:+0100
TZOFFSETTO:+0200
TZNAME:CEST
DTSTART:20240331T010000
END:DAYLIGHT
BEGIN:STANDARD
TZOFFSETFROM:+0200
TZOFFSETTO:+0100
TZNAME:CET
DTSTART:20241027T010000
END:STANDARD
END:VTIMEZONE
BEGIN:VEVENT
DTSTART;TZID=Europe/Helsinki:20230606T130000
DTEND;TZID=Europe/Helsinki:20230606T153000
DTSTAMP:20260422T054626
CREATED:20230606T110032Z
LAST-MODIFIED:20231130T100222Z
UID:10000205-1686056400-1686065400@gate21.dk
SUMMARY:Netværksmøde: Krav og kriterier til fremtidens cirkulære tekstilforbrug
DESCRIPTION:[vc_row type=”full-nopad”][vc_column width=”2/3″][vc_column_text] \n\n\nOmstillingen af det offentlige tekstilforbrug skal accelereres gennem nye krav og kriterier\nDen 6. juni kl. 13.00 – 15.30 inviterer vi til et online netværksmøde\, hvor du kan blive inspireret af eksempler på\, hvordan udbudskrav kan fremme et mere cirkulært tekstilforbrug. Dagen giver et unikt indblik i erfaringer fra igangværende og tidligere projekter\, og du kan være med til at sætte retning for fremtidens offentlige tekstilindkøb. \nTekstiler har et stort miljøaftryk og kun omkring en procent af aflagte tekstiler genanvendes i dag til nye tekstiler. Regioner og kommuner indkøber store mængder af flergangstekstiler til forskellige sektorer og kan — i kraft af deres indkøbsmuskel — bidrage positivt til omstillingen af industrien\, og trække markedet i en mere cirkulær retning. Men det kræver en efterspørgsel gennem de de offentlige udbud. \nUdformning af krav og kriterier kan være en kompleks opgave\, fordi cirkularitet bør fremmes på tværs af alle led i værdikæden. Hvordan indtænker man hele tekstilets livscyklus i sit udbud? Hvordan stiller man krav\, der fremmer den objektivt set mest miljøvenlige metervare? Hvordan åbner man op for innovation i sit udbud\, så markedet kan udfordre udbudsrammen? \nTil netværksmødet får du: \n\nBest practice-viden fra tidligere projekter om cirkulære tekstilindkøb\nEt sneak peak ind i foreløbige testresultater på levetid og komfort af forskellige typer af flergangstekstiler til personale og patienter på hospitaler i Region Hovedstaden\nIndblik i arbejdet med beregning af klima- og miljøaftryk for forskellige tekstile fibre\n\nVi slutter af med at drøfte muligheder og sætter sammen retning for fremtidens cirkulære tekstilindkøb. \nMålgruppe\nNetværksmødet henvender sig til partnere i projekterne One Textile Direction og Circular Economy Beyond Waste og andre interesserede offentlige indkøbere fra landets kommuner og regioner. \n\n  \nProjekterne er støttet af Innovationsfonden og EU’s LIFE-program. \n\n[/vc_column_text][vc_empty_space][vc_single_image image=”88469″ img_size=”full”][/vc_column][vc_column width=”1/3″ el_class=”event-column”][vc_column_text] \nPraktisk information\nTid: Arrangementet foregår tirsdag den 6. juni 2023 kl. 13:00-15:30. \nSted: Netværksmødet foregår online. Mødeindkaldelse tilsendes på mail ved tilmelding.[/vc_column_text][vc_empty_space][vc_separator][vc_empty_space][vc_column_text] \nTilmelding\nTilmeld dig ved at skrive til projektleder: \nSara Bach \nsara.bach@gate21.dk[/vc_column_text][vc_empty_space][/vc_column][/vc_row]
URL:https://gate21.dk/arrangement/netvaerksmoede-krav-og-kriterier-til-fremtidens-cirkulaere-tekstilforbrug/
LOCATION:Online
CATEGORIES:Cirkulær Økonomi
ATTACH;FMTTYPE=image/jpeg:https://gate21.dk/wp-content/uploads/2023/11/Collage_web-1.jpg
END:VEVENT
BEGIN:VEVENT
DTSTART;TZID=Europe/Paris:20230328T093000
DTEND;TZID=Europe/Paris:20230328T110000
DTSTAMP:20260422T054626
CREATED:20230302T144205Z
LAST-MODIFIED:20231130T111325Z
UID:10000212-1679995800-1680001200@gate21.dk
SUMMARY:Webinar: Stabiliseret jord i kommunalt vejbyggeri
DESCRIPTION:[vc_row type=”full-nopad”][vc_column width=”2/3″][vc_column_text] \n\n\nBliv klogere på fordelene ved at bruge stabiliseret jord og genbrugsmaterialer i funderingen og belægningen af kommunale veje\, når Partnerskabet for Overskudsjord og Ressourcer inviterer til et webinar den 28. marts.\nDet forventes\, at vi inden for en kort årrække kan løbe tør for visse råstofkvaliteter på Sjælland —  særligt i Københavnsområdet. Det betyder\, at nye råstoffer vil blive dyre. \nRåstofferne vil skulle transporteres langvejsfra\, når der skal vedligeholdes eller anlægges nye veje. Det bliver dyrt — både økonomisk og for klimaet. \nDe danske kommuner ejer samlet 95 procent af de danske veje\, og bærer 52 procent af biltrafikken. Kommunerne kan derfor med fordel tænke i mere klimavenlige og ressourcebesparende løsninger for deres veje. \nVed at stabilisere projektjord og udnytte affræsede eller knuste materialer til genindbygning i funderingen af vejen\, kan der spares på bortkørsel og deponering af afgravede materialer. Ligesom vi kan undgå tilkørsel af nye grusmaterialer\, når vejen skal repareres eller ny vej anlægges. \nSæt dig klar bag skærmen den 28. marts\, klokken 9:30 – 11:00\, og hør hvordan vejdirektoratet arbejder med stabiliseret jord og genbrugsmaterialer i deres anlægsarbejde. Du kan også blive klogere på  det praktiske arbejde med jordstabil og genanvendte materialer fra entreprenørens perspektiv. \nWebinaret er målrettet kommuner og kommunale vejfolk \, men er åbent og gratis for alle. \n\n\n[/vc_column_text][vc_empty_space][/vc_column][vc_column width=”1/3″ el_class=”event-column”][vc_column_text] \nPraktisk information\nTid: Webinaret foregår tirsdag den 9. maj 2023 kl. 09:30-11:00. \nDet foregår via Microsoft Teams og du modtager link til deltagelse ved tilmelding.[/vc_column_text][vc_empty_space][vc_separator][vc_empty_space][vc_column_text] \nKontakt\nRicki Christiansen\, projektleder\nricki.christiansen@gate21.dk // 31139034[/vc_column_text][vc_empty_space][vc_separator][vc_empty_space][vc_btn title=”Tilmeld dig her” style=”gradient-custom” gradient_custom_color_1=”#ffd90c” gradient_custom_color_2=”#ffd90c” gradient_text_color=”#000000″ shape=”square” align=”center” button_block=”true” link=”url:https%3A%2F%2Fpodio.com%2Fwebforms%2F20416046%2F1395806%3Ffields%255bevent%255d%3D2395448206″][vc_empty_space][vc_empty_space][vc_empty_space][vc_empty_space][vc_empty_space][vc_empty_space][vc_empty_space][vc_empty_space][/vc_column][/vc_row][vc_row type=”boxed”][vc_column][vc_tta_accordion section_title_tag=”h3″ shape=”square” color=”white” spacing=”10″ gap=”10″ active_section=”1″ no_fill=”true” collapsible_all=”true” title=”Program” el_class=”event-accordion”][vc_tta_section title=”9:30 – Velkomst og introduktion til Partnerskab for overskudsjord og ressourcer” tab_id=”1688462780162-a36a20b2-cf088dbd-64ce49fb-7885″][vc_column_text]ved Ricki Christiansen\, Gate 21\, og Jens Lind Gregersen\, Region Hovedstaden [/vc_column_text][/vc_tta_section][vc_tta_section title=”9:35 – Stabilisering af projektjord i vejbyggeri: Metoder\, økonomi og erfaringer fra stabilisering af projektjord i vejbyggeri\, og de geografiske muligheder og begrænsninger for kommunale veje” tab_id=”1688462780175-f80c9831-bc238dbd-64ce49fb-7885″][vc_column_text]ved Morten Larsen\, Områdedirektør SR-Gruppen A/S [/vc_column_text][/vc_tta_section][vc_tta_section title=”10:00 – Pause” tab_id=”1688463274211-14a5b1b9-4b468dbd-64ce49fb-7885″][/vc_tta_section][vc_tta_section title=”10:05 – Anvendelse af genanvendte materialer og jordstabil i vejbyggeri: Hvad kan lade sig gøre ifølge vejreglerne\, hvad angår anvendelse af jordstabil og genanvendelses materialer i vejbyggeri?” tab_id=”1701338837828-e578fa24-9178″][vc_column_text]ved Finn Thøgersen\, Vejdirektoratet[/vc_column_text][/vc_tta_section][vc_tta_section title=”10:30 – CO2–besparelser med Vejdirektoratets InfraLCA: Hvordan måler vi på klimagevinsten? Og er der en?” tab_id=”1701338836591-4f46d945-c149″][vc_column_text]ved Mads Lenschau\, Vejdirektoratet [/vc_column_text][/vc_tta_section][vc_tta_section title=”10:55 – Tak for i dag” tab_id=”1701338836442-cd51ef24-dc49″][vc_column_text]ved Jens Lind Gregersen & Ricki Christiansen [/vc_column_text][/vc_tta_section][/vc_tta_accordion][vc_single_image image=”88525″ img_size=”full”][vc_single_image image=”88526″ img_size=”full”][vc_empty_space height=”68px”][/vc_column][/vc_row]
URL:https://gate21.dk/arrangement/inspirationswebinar-om-stabiliseret-jord-i-kommunalt-vejbyggeri/
LOCATION:Online
CATEGORIES:Cirkulær Økonomi
ATTACH;FMTTYPE=image/png:https://gate21.dk/wp-content/uploads/2023/03/WEB_simpel.png
END:VEVENT
END:VCALENDAR